<metadata xml:lang="en"><Esri><CreaDate>20260217</CreaDate><CreaTime>23533300</CreaTime><ArcGISFormat>1.0</ArcGISFormat><SyncOnce>FALSE</SyncOnce><DataProperties><lineage><Process ToolSource="c:\program files\arcgis\pro\Resources\ArcToolbox\toolboxes\Spatial Analyst Tools.tbx\Idw" Date="20260217" Time="235333">Idw AP_23778_FBD_F_InterpolateSh2_ExportFeatures ISOPIEZAS "C:\Users\Daniel DB\Desktop\INGEOMAD\PIRGUA_TUNJA\Tunja_GIS\Tunja_GIS.gdb\Idw_AP_237783" 5.94446959999949 2 "VARIABLE 12" #</Process><Process ToolSource="c:\program files\arcgis\pro\Resources\ArcToolbox\toolboxes\Data Management Tools.tbx\CopyRaster" Date="20260223" Time="174313">CopyRaster "C:\Users\Daniel DB\Desktop\INGEOMAD\PIRGUA_TUNJA\Tunja_GIS\Tunja_GIS.gdb\Idw_AP_237783" "C:\Users\Daniel DB\Desktop\INGEOMAD\PIRGUA_TUNJA\Tunja_GIS\RASTER\ISOPIEZAS_IDW.tif" # # 3.4e+38 NONE NONE # NONE NONE TIFF NONE CURRENT_SLICE NO_TRANSPOSE</Process></lineage><itemProps><itemName Sync="TRUE">ISOPIEZAS_IDW.tif</itemName><itemLocation><linkage Sync="TRUE">file://C:\Users\Daniel DB\Desktop\INGEOMAD\PIRGUA_TUNJA\Tunja_GIS\RASTER\ISOPIEZAS_IDW.tif</linkage><protocol Sync="TRUE">Local Area Network</protocol></itemLocation><imsContentType Sync="TRUE">002</imsContentType><nativeExtBox><westBL Sync="TRUE">4964143.931200</westBL><eastBL Sync="TRUE">4965630.048600</eastBL><southBL Sync="TRUE">2173106.340200</southBL><northBL Sync="TRUE">2175050.181759</northBL><exTypeCode Sync="TRUE">1</exTypeCode></nativeExtBox></itemProps><coordRef><type Sync="TRUE">Projected</type><geogcsn Sync="TRUE">MAGNA-SIRGAS_2018</geogcsn><csUnits Sync="TRUE">Linear Unit: Meter (1.000000)</csUnits><projcsn Sync="TRUE">MAGNA-SIRGAS_2018_Origen-Nacional</projcsn><peXml Sync="TRUE">&lt;ProjectedCoordinateSystem xsi:type='typens:ProjectedCoordinateSystem' xmlns:xsi='http://www.w3.org/2001/XMLSchema-instance' xmlns:xs='http://www.w3.org/2001/XMLSchema' xmlns:typens='http://www.esri.com/schemas/ArcGIS/3.4.0'&gt;&lt;WKT&gt;PROJCS[&amp;quot;MAGNA-SIRGAS_2018_Origen-Nacional&amp;quot;,GEOGCS[&amp;quot;MAGNA-SIRGAS_2018&amp;quot;,DATUM[&amp;quot;Marco_Geocentrico_Nacional_de_Referencia_2018&amp;quot;,SPHEROID[&amp;quot;GRS_1980&amp;quot;,6378137.0,298.257222101]],PRIMEM[&amp;quot;Greenwich&amp;quot;,0.0],UNIT[&amp;quot;Degree&amp;quot;,0.0174532925199433]],PROJECTION[&amp;quot;Transverse_Mercator&amp;quot;],PARAMETER[&amp;quot;False_Easting&amp;quot;,5000000.0],PARAMETER[&amp;quot;False_Northing&amp;quot;,2000000.0],PARAMETER[&amp;quot;Central_Meridian&amp;quot;,-73.0],PARAMETER[&amp;quot;Scale_Factor&amp;quot;,0.9992],PARAMETER[&amp;quot;Latitude_Of_Origin&amp;quot;,4.0],UNIT[&amp;quot;Meter&amp;quot;,1.0],AUTHORITY[&amp;quot;EPSG&amp;quot;,9377]]&lt;/WKT&gt;&lt;XOrigin&gt;-618700&lt;/XOrigin&gt;&lt;YOrigin&gt;-8436100&lt;/YOrigin&gt;&lt;XYScale&gt;450623577.52990448&lt;/XYScale&gt;&lt;ZOrigin&gt;-100000&lt;/ZOrigin&gt;&lt;ZScale&gt;10000&lt;/ZScale&gt;&lt;MOrigin&gt;-100000&lt;/MOrigin&gt;&lt;MScale&gt;10000&lt;/MScale&gt;&lt;XYTolerance&gt;0.001&lt;/XYTolerance&gt;&lt;ZTolerance&gt;0.001&lt;/ZTolerance&gt;&lt;MTolerance&gt;0.001&lt;/MTolerance&gt;&lt;HighPrecision&gt;true&lt;/HighPrecision&gt;&lt;WKID&gt;9377&lt;/WKID&gt;&lt;LatestWKID&gt;9377&lt;/LatestWKID&gt;&lt;/ProjectedCoordinateSystem&gt;</peXml></coordRef><RasterProperties><General><PixelDepth Sync="TRUE">32</PixelDepth><HasColormap Sync="TRUE">FALSE</HasColormap><CompressionType Sync="TRUE">LZW</CompressionType><NumBands Sync="TRUE">1</NumBands><Format Sync="TRUE">TIFF</Format><HasPyramids Sync="TRUE">FALSE</HasPyramids><SourceType Sync="TRUE">continuous</SourceType><PixelType Sync="TRUE">floating point</PixelType><NoDataValue Sync="TRUE">3.4e+38</NoDataValue></General></RasterProperties><LayerFile>{"type":"CIMLayerDocument","version":"3.4.0","build":55405,"layers":["CIMPATH=Isopiezas/Idw_AP_237783.json"],"layerDefinitions":[{"type":"CIMRasterLayer","name":"Idw_AP_237783","uRI":"CIMPATH=Isopiezas/Idw_AP_237783.json","sourceModifiedTime":{"type":"TimeInstant"},"useSourceMetadata":true,"description":"Idw_AP_237783","layerElevation":{"type":"CIMLayerElevationSurface","elevationSurfaceLayerURI":"CIMPATH=8ec7833ab9ad421c9676550189d96d78.json"},"expanded":true,"layerType":"Operational","showLegends":true,"visibility":true,"displayCacheType":"Permanent","maxDisplayCacheAge":5,"showPopups":true,"serviceLayerID":-1,"refreshRate":-1,"refreshRateUnit":"esriTimeUnitsSeconds","blendingMode":"Alpha","allowDrapingOnIntegratedMesh":true,"dataConnection":{"type":"CIMStandardDataConnection"},"colorizer":{"type":"CIMRasterClassifyColorizer","resamplingType":"BilinearInterpolation","normalizationType":"Nothing","classBreaks":[{"type":"CIMRasterClassBreak","upperBound":2667.73996434936544,"label":"2,658.441 - 2,667.74","color":{"type":"CIMHSVColor","values":[98,42,60,100]}},{"type":"CIMRasterClassBreak","upperBound":2677.91471365485313,"label":"2,667.741 - 2,677.915","color":{"type":"CIMHSVColor","values":[77.5,37.5,77.5,100]}},{"type":"CIMRasterClassBreak","upperBound":2689.04704738914825,"label":"2,677.916 - 2,689.047","color":{"type":"CIMHSVColor","values":[57,33,95,100]}},{"type":"CIMRasterClassBreak","upperBound":2701.22708747179468,"label":"2,689.048 - 2,701.227","color":{"type":"CIMHSVColor","values":[48.5,39,95,100]}},{"type":"CIMRasterClassBreak","upperBound":2714.55343753960187,"label":"2,701.228 - 2,714.553","color":{"type":"CIMHSVColor","values":[40,45,95,100]}},{"type":"CIMRasterClassBreak","upperBound":2729.13398119337626,"label":"2,714.554 - 2,729.134","color":{"type":"CIMHSVColor","values":[27,40.5,85.5,100]}},{"type":"CIMRasterClassBreak","upperBound":2742.46033126118346,"label":"2,729.135 - 2,742.46","color":{"type":"CIMLABColor","values":[63.3500000000000014,19.6700000000000017,17.2100000000000009,100]}},{"type":"CIMRasterClassBreak","upperBound":2754.64037134382988,"label":"2,742.461 - 2,754.64","color":{"type":"CIMLABColor","values":[80.5,16.07,1.23,100]}},{"type":"CIMRasterClassBreak","upperBound":2765.772705078125,"label":"2,754.641 - 2,765.773","color":{"type":"CIMLABColor","values":[97.6599999999999966,5.1399999999999997,-3.27,100]}}],"classificationMethod":"GeometricalInterval","colorRamp":{"type":"CIMMultipartColorRamp","colorRamps":[{"type":"CIMPolarContinuousColorRamp","colorSpace":{"type":"CIMICCColorSpace","url":"Default RGB"},"fromColor":{"type":"CIMHSVColor","values":[98,42,60,100]},"toColor":{"type":"CIMHSVColor","values":[57,33,95,100]},"interpolationSpace":"HSV","polarDirection":"Auto"},{"type":"CIMPolarContinuousColorRamp","colorSpace":{"type":"CIMICCColorSpace","url":"Default RGB"},"fromColor":{"type":"CIMHSVColor","values":[57,33,95,100]},"toColor":{"type":"CIMHSVColor","values":[40,45,95,100]},"interpolationSpace":"HSV","polarDirection":"Auto"},{"type":"CIMPolarContinuousColorRamp","colorSpace":{"type":"CIMICCColorSpace","url":"Default RGB"},"fromColor":{"type":"CIMHSVColor","values":[40,45,95,100]},"toColor":{"type":"CIMHSVColor","values":[14,36,76,100]},"interpolationSpace":"HSV","polarDirection":"Counterclockwise"},{"type":"CIMPolarContinuousColorRamp","colorSpace":{"type":"CIMICCColorSpace","url":"CIELAB"},"fromColor":{"type":"CIMHSVColor","values":[13.7200000000000006,36.0799999999999983,76.0799999999999983,100]},"toColor":{"type":"CIMLABColor","values":[97.6613879613448859,5.1406236854073528,-3.2669338597618669,100]},"interpolationSpace":"LAB","polarDirection":"Counterclockwise"}],"weights":[1,1,1,1]},"field":"VALUE","minimumBreak":-53.982208251953125,"showInAscendingOrder":true}}]}</LayerFile></DataProperties><SyncDate>20260223</SyncDate><SyncTime>17431300</SyncTime><ModDate>20260223</ModDate><ModTime>17431300</ModTime></Esri><dataIdInfo><envirDesc Sync="TRUE">Microsoft Windows 10 Version 10.0 (Build 26200) ; Esri ArcGIS 13.4.0.55405</envirDesc><dataLang><languageCode value="eng" Sync="TRUE"></languageCode><countryCode value="USA" Sync="TRUE"></countryCode></dataLang><idCitation><resTitle Sync="TRUE">ISOPIEZAS_IDW.tif</resTitle><presForm><PresFormCd value="005" Sync="TRUE"></PresFormCd></presForm></idCitation><spatRpType><SpatRepTypCd value="002" Sync="TRUE"></SpatRepTypCd></spatRpType><dataExt><geoEle><GeoBndBox esriExtentType="search"><exTypeCode Sync="TRUE">1</exTypeCode><westBL Sync="TRUE">-73.323884</westBL><eastBL Sync="TRUE">-73.310451</eastBL><northBL Sync="TRUE">5.584174</northBL><southBL Sync="TRUE">5.566575</southBL></GeoBndBox></geoEle></dataExt></dataIdInfo><mdLang><languageCode value="eng" Sync="TRUE"></languageCode><countryCode value="USA" Sync="TRUE"></countryCode></mdLang><distInfo><distFormat><formatName Sync="TRUE">Raster Dataset</formatName></distFormat></distInfo><mdHrLv><ScopeCd value="005" Sync="TRUE"></ScopeCd></mdHrLv><mdHrLvName Sync="TRUE">dataset</mdHrLvName><refSysInfo><RefSystem><refSysID><identCode code="9377" Sync="TRUE"></identCode><idCodeSpace Sync="TRUE">EPSG</idCodeSpace><idVersion Sync="TRUE">9.8.12(12.8.0)</idVersion></refSysID></RefSystem></refSysInfo><spatRepInfo><Georect><cellGeo><CellGeoCd Sync="TRUE" value="002"></CellGeoCd></cellGeo><numDims Sync="TRUE">2</numDims><tranParaAv Sync="TRUE">1</tranParaAv><chkPtAv Sync="TRUE">0</chkPtAv><cornerPts><pos Sync="TRUE">4964143.931200 2173106.340200</pos></cornerPts><cornerPts><pos Sync="TRUE">4964143.931200 2175050.181759</pos></cornerPts><cornerPts><pos Sync="TRUE">4965630.048600 2175050.181759</pos></cornerPts><cornerPts><pos Sync="TRUE">4965630.048600 2173106.340200</pos></cornerPts><centerPt><pos Sync="TRUE">4964886.989900 2174078.260980</pos></centerPt><axisDimension type="002"><dimSize Sync="TRUE">250</dimSize><dimResol><value Sync="TRUE" uom="m">5.944470</value></dimResol></axisDimension><axisDimension type="001"><dimSize Sync="TRUE">327</dimSize><dimResol><value Sync="TRUE" uom="m">5.944470</value></dimResol></axisDimension><ptInPixel><PixOrientCd Sync="TRUE" value="001"></PixOrientCd></ptInPixel></Georect></spatRepInfo><contInfo><ImgDesc><contentTyp><ContentTypCd Sync="TRUE" value="001"></ContentTypCd></contentTyp><covDim><Band><dimDescrp Sync="TRUE">Band_1</dimDescrp><bitsPerVal Sync="TRUE">32</bitsPerVal><valUnit><UOM type="length"></UOM></valUnit></Band></covDim></ImgDesc></contInfo><mdDateSt Sync="TRUE">20260223</mdDateSt></metadata>
